BEGIN:VCALENDAR
VERSION:2.0
PRODID:-//MONA Australia - ECPv6.15.20//NONSGML v1.0//EN
CALSCALE:GREGORIAN
METHOD:PUBLISH
X-WR-CALNAME:MONA Australia
X-ORIGINAL-URL:https://www.mymona.org.au
X-WR-CALDESC:Events for MONA Australia
REFRESH-INTERVAL;VALUE=DURATION:PT1H
X-Robots-Tag:noindex
X-PUBLISHED-TTL:PT1H
BEGIN:VTIMEZONE
TZID:Australia/Melbourne
BEGIN:STANDARD
TZOFFSETFROM:+1100
TZOFFSETTO:+1000
TZNAME:AEST
DTSTART:20220402T160000
END:STANDARD
BEGIN:DAYLIGHT
TZOFFSETFROM:+1000
TZOFFSETTO:+1100
TZNAME:AEDT
DTSTART:20221001T160000
END:DAYLIGHT
BEGIN:STANDARD
TZOFFSETFROM:+1100
TZOFFSETTO:+1000
TZNAME:AEST
DTSTART:20230401T160000
END:STANDARD
BEGIN:DAYLIGHT
TZOFFSETFROM:+1000
TZOFFSETTO:+1100
TZNAME:AEDT
DTSTART:20230930T160000
END:DAYLIGHT
BEGIN:STANDARD
TZOFFSETFROM:+1100
TZOFFSETTO:+1000
TZNAME:AEST
DTSTART:20240406T160000
END:STANDARD
BEGIN:DAYLIGHT
TZOFFSETFROM:+1000
TZOFFSETTO:+1100
TZNAME:AEDT
DTSTART:20241005T160000
END:DAYLIGHT
END:VTIMEZONE
BEGIN:VEVENT
DTSTART;TZID=Australia/Melbourne:20230218T090000
DTEND;TZID=Australia/Melbourne:20230218T140000
DTSTAMP:20260423T124745
CREATED:20230205T001631Z
LAST-MODIFIED:20230407T021741Z
UID:32-1676710800-1676728800@www.mymona.org.au
SUMMARY:मोना अस्ट्रेलिया - १७ औं वार्षिक साधारण सभा तथा ८ औ महाधिवेशन
DESCRIPTION:यस संस्थाको Friday \,20 January 2023 मा बसेको कार्यसमिती बैठकले यस संस्थाको १७ औं वार्षिक साधारण सभा तथा ८औ महाधिवेशन निम्न मिति र स्थानमा बस्ने निर्णय गरेको जानाकारि गराउदै सम्पूर्ण म्यगदेली सदस्य महानुभावहरुलाई उपस्थितिको लागि हार्दिक अनुरोध गर्दछौं ।\nकार्यक्रम :-\nDate = Saturday\, 18 February 2023\nVenue = Gorkhe Palace\n25 Macquarie Pl\, Mortdale NSW 2223\nTime = 9am – 2pm\nधन्यवाद !\nजय मोना
URL:https://www.mymona.org.au/event/%e0%a4%ae%e0%a5%8b%e0%a4%a8%e0%a4%be-%e0%a4%85%e0%a4%b8%e0%a5%8d%e0%a4%9f%e0%a5%8d%e0%a4%b0%e0%a5%87%e0%a4%b2%e0%a4%bf%e0%a4%af%e0%a4%be-%e0%a5%a7%e0%a5%ad-%e0%a4%94%e0%a4%82-%e0%a4%b5%e0%a4%be/
LOCATION:Gorkhe Palace\, 25 Macquarie Pl\, Mortdale\, NSW\, 2223\, Australia
CATEGORIES:Meetings
ATTACH;FMTTYPE=image/png:https://www.mymona.org.au/wp-content/uploads/2023/02/MONA-LOGO.png
END:VEVENT
END:VCALENDAR